BEGIN:VCALENDAR
VERSION:2.0
PRODID:-//St Johns Club - ECPv3.8.1//NONSGML v1.0//EN
CALSCALE:GREGORIAN
METHOD:PUBLISH
X-WR-CALNAME:St Johns Club
X-ORIGINAL-URL:https://stjohnsclub.co.nz
X-WR-CALDESC:Events for St Johns Club
X-WR-TIMEZONE:Pacific/Auckland
BEGIN:VEVENT
DTSTART;VALUE=DATE:20191231
DTEND;VALUE=DATE:20200101
DTSTAMP:20191218T180540
CREATED:20160920T162545
LAST-MODIFIED:20160920T162545
UID:3944-1577750400-1577836800@https://stjohnsclub.co.nz
SUMMARY:Rummikub
DESCRIPTION:
URL:https://stjohnsclub.co.nz/event/rummikub-2/2019-12-31/
END:VEVENT
BEGIN:VEVENT
DTSTART;VALUE=DATE:20191231
DTEND;VALUE=DATE:20200101
DTSTAMP:20191218T180540
CREATED:20190926T165634
LAST-MODIFIED:20190926T165634
UID:4383-1577750400-1577836800@https://stjohnsclub.co.nz
SUMMARY:NEW YEARS EVE: WHISKEY MAMA PLAYING
DESCRIPTION:
URL:https://stjohnsclub.co.nz/event/new-years-eve-whiskey-mama-playing/
CATEGORIES:Entertainment
END:VEVENT
BEGIN:VEVENT
DTSTART;VALUE=DATE:20191230
DTEND;VALUE=DATE:20191231
DTSTAMP:20191218T180540
CREATED:20170203T111307
LAST-MODIFIED:20170203T111307
UID:3943-1577664000-1577750400@https://stjohnsclub.co.nz
SUMMARY:Indoor Bowls 7pm
DESCRIPTION:
URL:https://stjohnsclub.co.nz/event/indoor-bowls-7pm/2019-12-30/
CATEGORIES:Adjuncts
END:VEVENT
BEGIN:VEVENT
DTSTART;VALUE=DATE:20191228
DTEND;VALUE=DATE:20191229
DTSTAMP:20191218T180540
CREATED:20180301T125916
LAST-MODIFIED:20180301T125916
UID:3942-1577491200-1577577600@https://stjohnsclub.co.nz
SUMMARY:Saturday's Joker Draw
DESCRIPTION:
URL:https://stjohnsclub.co.nz/event/saturdays-joker-draw/2019-12-28/
END:VEVENT
BEGIN:VEVENT
DTSTART;VALUE=DATE:20191227
DTEND;VALUE=DATE:20191228
DTSTAMP:20191218T180540
CREATED:20160920T162853
LAST-MODIFIED:20160920T162853
UID:3940-1577404800-1577491200@https://stjohnsclub.co.nz
SUMMARY:Texas Holdem Poker
DESCRIPTION:
URL:https://stjohnsclub.co.nz/event/texas-holdem-poker-3/2019-12-27/
END:VEVENT
BEGIN:VEVENT
DTSTART;VALUE=DATE:20191227
DTEND;VALUE=DATE:20191228
DTSTAMP:20191218T180540
CREATED:20170711T162040
LAST-MODIFIED:20170711T162040
UID:3941-1577404800-1577491200@https://stjohnsclub.co.nz
SUMMARY:Friday's Member's Draw!
DESCRIPTION:
URL:https://stjohnsclub.co.nz/event/fridays-members-draw/2019-12-27/
END:VEVENT
BEGIN:VEVENT
DTSTART;VALUE=DATE:20191226
DTEND;VALUE=DATE:20191227
DTSTAMP:20191218T180540
CREATED:20160920T162815
LAST-MODIFIED:20160920T162815
UID:3938-1577318400-1577404800@https://stjohnsclub.co.nz
SUMMARY:Darts 7pm
DESCRIPTION:
URL:https://stjohnsclub.co.nz/event/darts-7pm-3/2019-12-26/
END:VEVENT
BEGIN:VEVENT
DTSTART;VALUE=DATE:20191226
DTEND;VALUE=DATE:20191227
DTSTAMP:20191218T180540
CREATED:20170711T161947
LAST-MODIFIED:20170711T161947
UID:3939-1577318400-1577404800@https://stjohnsclub.co.nz
SUMMARY:Thursday's Member's Draw!
DESCRIPTION:
URL:https://stjohnsclub.co.nz/event/thursdays-members-draw/2019-12-26/
END:VEVENT
BEGIN:VEVENT
DTSTART;VALUE=DATE:20191225
DTEND;VALUE=DATE:20191226
DTSTAMP:20191218T180540
CREATED:20160920T162725
LAST-MODIFIED:20190413T000446
UID:3936-1577232000-1577318400@https://stjohnsclub.co.nz
SUMMARY:Dancing from 11:00am
DESCRIPTION:
URL:https://stjohnsclub.co.nz/event/dancing-1100am/2019-12-25/
END:VEVENT
BEGIN:VEVENT
DTSTART;VALUE=DATE:20191225
DTEND;VALUE=DATE:20191226
DTSTAMP:20191218T180540
CREATED:20170203T111617
LAST-MODIFIED:20170203T111617
UID:3937-1577232000-1577318400@https://stjohnsclub.co.nz
SUMMARY:Snooker 6:30pm
DESCRIPTION:
URL:https://stjohnsclub.co.nz/event/snooker-630pm-6/2019-12-25/
CATEGORIES:Adjuncts
END:VEVENT
BEGIN:VEVENT
DTSTART;VALUE=DATE:20191224
DTEND;VALUE=DATE:20191225
DTSTAMP:20191218T180540
CREATED:20160920T162545
LAST-MODIFIED:20160920T162545
UID:3935-1577145600-1577232000@https://stjohnsclub.co.nz
SUMMARY:Rummikub
DESCRIPTION:
URL:https://stjohnsclub.co.nz/event/rummikub-2/2019-12-24/
END:VEVENT
BEGIN:VEVENT
DTSTART;VALUE=DATE:20191223
DTEND;VALUE=DATE:20191224
DTSTAMP:20191218T180540
CREATED:20170203T111307
LAST-MODIFIED:20170203T111307
UID:3934-1577059200-1577145600@https://stjohnsclub.co.nz
SUMMARY:Indoor Bowls 7pm
DESCRIPTION:
URL:https://stjohnsclub.co.nz/event/indoor-bowls-7pm/2019-12-23/
CATEGORIES:Adjuncts
END:VEVENT
BEGIN:VEVENT
DTSTART;VALUE=DATE:20191221
DTEND;VALUE=DATE:20191222
DTSTAMP:20191218T180540
CREATED:20180301T125916
LAST-MODIFIED:20180301T125916
UID:3933-1576886400-1576972800@https://stjohnsclub.co.nz
SUMMARY:Saturday's Joker Draw
DESCRIPTION:
URL:https://stjohnsclub.co.nz/event/saturdays-joker-draw/2019-12-21/
END:VEVENT
BEGIN:VEVENT
DTSTART;VALUE=DATE:20191221
DTEND;VALUE=DATE:20191222
DTSTAMP:20191218T180540
CREATED:20190926T165551
LAST-MODIFIED:20190926T165551
UID:4382-1576886400-1576972800@https://stjohnsclub.co.nz
SUMMARY:Live Entertainment: Harmony Showdown from 7:30pm
DESCRIPTION:
URL:https://stjohnsclub.co.nz/event/live-entertainment-harmony-showdown-from-730pm-14/
CATEGORIES:Entertainment
END:VEVENT
BEGIN:VEVENT
DTSTART;VALUE=DATE:20191220
DTEND;VALUE=DATE:20191221
DTSTAMP:20191218T180540
CREATED:20160920T162853
LAST-MODIFIED:20160920T162853
UID:3931-1576800000-1576886400@https://stjohnsclub.co.nz
SUMMARY:Texas Holdem Poker
DESCRIPTION:
URL:https://stjohnsclub.co.nz/event/texas-holdem-poker-3/2019-12-20/
END:VEVENT
BEGIN:VEVENT
DTSTART;VALUE=DATE:20191220
DTEND;VALUE=DATE:20191221
DTSTAMP:20191218T180540
CREATED:20170711T162040
LAST-MODIFIED:20170711T162040
UID:3932-1576800000-1576886400@https://stjohnsclub.co.nz
SUMMARY:Friday's Member's Draw!
DESCRIPTION:
URL:https://stjohnsclub.co.nz/event/fridays-members-draw/2019-12-20/
END:VEVENT
BEGIN:VEVENT
DTSTART;VALUE=DATE:20191219
DTEND;VALUE=DATE:20191220
DTSTAMP:20191218T180540
CREATED:20160920T162815
LAST-MODIFIED:20160920T162815
UID:3929-1576713600-1576800000@https://stjohnsclub.co.nz
SUMMARY:Darts 7pm
DESCRIPTION:
URL:https://stjohnsclub.co.nz/event/darts-7pm-3/2019-12-19/
END:VEVENT
BEGIN:VEVENT
DTSTART;VALUE=DATE:20191219
DTEND;VALUE=DATE:20191220
DTSTAMP:20191218T180540
CREATED:20170711T161947
LAST-MODIFIED:20170711T161947
UID:3930-1576713600-1576800000@https://stjohnsclub.co.nz
SUMMARY:Thursday's Member's Draw!
DESCRIPTION:
URL:https://stjohnsclub.co.nz/event/thursdays-members-draw/2019-12-19/
END:VEVENT
BEGIN:VEVENT
DTSTART;VALUE=DATE:20191218
DTEND;VALUE=DATE:20191219
DTSTAMP:20191218T180540
CREATED:20160920T162725
LAST-MODIFIED:20190413T000446
UID:3927-1576627200-1576713600@https://stjohnsclub.co.nz
SUMMARY:Dancing from 11:00am
DESCRIPTION:
URL:https://stjohnsclub.co.nz/event/dancing-1100am/2019-12-18/
END:VEVENT
BEGIN:VEVENT
DTSTART;VALUE=DATE:20191218
DTEND;VALUE=DATE:20191219
DTSTAMP:20191218T180540
CREATED:20170203T111617
LAST-MODIFIED:20170203T111617
UID:3928-1576627200-1576713600@https://stjohnsclub.co.nz
SUMMARY:Snooker 6:30pm
DESCRIPTION:
URL:https://stjohnsclub.co.nz/event/snooker-630pm-6/2019-12-18/
CATEGORIES:Adjuncts
END:VEVENT
BEGIN:VEVENT
DTSTART;VALUE=DATE:20191217
DTEND;VALUE=DATE:20191218
DTSTAMP:20191218T180540
CREATED:20160920T162545
LAST-MODIFIED:20160920T162545
UID:3922-1576540800-1576627200@https://stjohnsclub.co.nz
SUMMARY:Rummikub
DESCRIPTION:
URL:https://stjohnsclub.co.nz/event/rummikub-2/2019-12-17/
END:VEVENT
BEGIN:VEVENT
DTSTART;VALUE=DATE:20191216
DTEND;VALUE=DATE:20191217
DTSTAMP:20191218T180540
CREATED:20170203T111307
LAST-MODIFIED:20170203T111307
UID:3921-1576454400-1576540800@https://stjohnsclub.co.nz
SUMMARY:Indoor Bowls 7pm
DESCRIPTION:
URL:https://stjohnsclub.co.nz/event/indoor-bowls-7pm/2019-12-16/
CATEGORIES:Adjuncts
END:VEVENT
BEGIN:VEVENT
DTSTART;VALUE=DATE:20191214
DTEND;VALUE=DATE:20191215
DTSTAMP:20191218T180540
CREATED:20180301T125916
LAST-MODIFIED:20180301T125916
UID:3920-1576281600-1576368000@https://stjohnsclub.co.nz
SUMMARY:Saturday's Joker Draw
DESCRIPTION:
URL:https://stjohnsclub.co.nz/event/saturdays-joker-draw/2019-12-14/
END:VEVENT
BEGIN:VEVENT
DTSTART;VALUE=DATE:20191214
DTEND;VALUE=DATE:20191215
DTSTAMP:20191218T180540
CREATED:20190926T165510
LAST-MODIFIED:20190926T165510
UID:4381-1576281600-1576368000@https://stjohnsclub.co.nz
SUMMARY:Live Entertainment: Emerald from 7:30pm
DESCRIPTION:
URL:https://stjohnsclub.co.nz/event/live-entertainment-emerald-from-730pm-11/
CATEGORIES:Entertainment
END:VEVENT
BEGIN:VEVENT
DTSTART;VALUE=DATE:20191213
DTEND;VALUE=DATE:20191214
DTSTAMP:20191218T180540
CREATED:20160920T162853
LAST-MODIFIED:20160920T162853
UID:3918-1576195200-1576281600@https://stjohnsclub.co.nz
SUMMARY:Texas Holdem Poker
DESCRIPTION:
URL:https://stjohnsclub.co.nz/event/texas-holdem-poker-3/2019-12-13/
END:VEVENT
BEGIN:VEVENT
DTSTART;VALUE=DATE:20191213
DTEND;VALUE=DATE:20191214
DTSTAMP:20191218T180540
CREATED:20170711T162040
LAST-MODIFIED:20170711T162040
UID:3919-1576195200-1576281600@https://stjohnsclub.co.nz
SUMMARY:Friday's Member's Draw!
DESCRIPTION:
URL:https://stjohnsclub.co.nz/event/fridays-members-draw/2019-12-13/
END:VEVENT
BEGIN:VEVENT
DTSTART;VALUE=DATE:20191213
DTEND;VALUE=DATE:20191214
DTSTAMP:20191218T180540
CREATED:20190926T165212
LAST-MODIFIED:20190926T165212
UID:4376-1576195200-1576281600@https://stjohnsclub.co.nz
SUMMARY:ONE MEMBER WINS A BRAND NEW CAR Friday 13th December
DESCRIPTION:
URL:https://stjohnsclub.co.nz/event/one-member-wins-a-brand-new-car-friday-13th-december/
CATEGORIES:Entertainment
END:VEVENT
BEGIN:VEVENT
DTSTART;VALUE=DATE:20191212
DTEND;VALUE=DATE:20191213
DTSTAMP:20191218T180540
CREATED:20160920T162815
LAST-MODIFIED:20160920T162815
UID:3916-1576108800-1576195200@https://stjohnsclub.co.nz
SUMMARY:Darts 7pm
DESCRIPTION:
URL:https://stjohnsclub.co.nz/event/darts-7pm-3/2019-12-12/
END:VEVENT
BEGIN:VEVENT
DTSTART;VALUE=DATE:20191212
DTEND;VALUE=DATE:20191213
DTSTAMP:20191218T180540
CREATED:20170711T161947
LAST-MODIFIED:20170711T161947
UID:3917-1576108800-1576195200@https://stjohnsclub.co.nz
SUMMARY:Thursday's Member's Draw!
DESCRIPTION:
URL:https://stjohnsclub.co.nz/event/thursdays-members-draw/2019-12-12/
END:VEVENT
BEGIN:VEVENT
DTSTART;VALUE=DATE:20191211
DTEND;VALUE=DATE:20191212
DTSTAMP:20191218T180540
CREATED:20160920T162725
LAST-MODIFIED:20190413T000446
UID:3914-1576022400-1576108800@https://stjohnsclub.co.nz
SUMMARY:Dancing from 11:00am
DESCRIPTION:
URL:https://stjohnsclub.co.nz/event/dancing-1100am/2019-12-11/
END:VEVENT
BEGIN:VEVENT
DTSTART;VALUE=DATE:20191211
DTEND;VALUE=DATE:20191212
DTSTAMP:20191218T180540
CREATED:20170203T111617
LAST-MODIFIED:20170203T111617
UID:3915-1576022400-1576108800@https://stjohnsclub.co.nz
SUMMARY:Snooker 6:30pm
DESCRIPTION:
URL:https://stjohnsclub.co.nz/event/snooker-630pm-6/2019-12-11/
CATEGORIES:Adjuncts
END:VEVENT
BEGIN:VEVENT
DTSTART;VALUE=DATE:20191210
DTEND;VALUE=DATE:20191211
DTSTAMP:20191218T180540
CREATED:20160920T162545
LAST-MODIFIED:20160920T162545
UID:3913-1575936000-1576022400@https://stjohnsclub.co.nz
SUMMARY:Rummikub
DESCRIPTION:
URL:https://stjohnsclub.co.nz/event/rummikub-2/2019-12-10/
END:VEVENT
BEGIN:VEVENT
DTSTART;VALUE=DATE:20191209
DTEND;VALUE=DATE:20191210
DTSTAMP:20191218T180540
CREATED:20170203T111307
LAST-MODIFIED:20170203T111307
UID:3911-1575849600-1575936000@https://stjohnsclub.co.nz
SUMMARY:Indoor Bowls 7pm
DESCRIPTION:
URL:https://stjohnsclub.co.nz/event/indoor-bowls-7pm/2019-12-09/
CATEGORIES:Adjuncts
END:VEVENT
BEGIN:VEVENT
DTSTART;VALUE=DATE:20191207
DTEND;VALUE=DATE:20191208
DTSTAMP:20191218T180540
CREATED:20180301T125916
LAST-MODIFIED:20180301T125916
UID:3910-1575676800-1575763200@https://stjohnsclub.co.nz
SUMMARY:Saturday's Joker Draw
DESCRIPTION:
URL:https://stjohnsclub.co.nz/event/saturdays-joker-draw/2019-12-07/
END:VEVENT
BEGIN:VEVENT
DTSTART;VALUE=DATE:20191207
DTEND;VALUE=DATE:20191208
DTSTAMP:20191218T180540
CREATED:20190926T165334
LAST-MODIFIED:20190926T165334
UID:4378-1575676800-1575763200@https://stjohnsclub.co.nz
SUMMARY:Live Entertainment: Make Believe from 7:30pm
DESCRIPTION:
URL:https://stjohnsclub.co.nz/event/live-entertainment-make-believe-from-730pm-6/
CATEGORIES:Entertainment
END:VEVENT
BEGIN:VEVENT
DTSTART;VALUE=DATE:20191206
DTEND;VALUE=DATE:20191207
DTSTAMP:20191218T180540
CREATED:20160920T162853
LAST-MODIFIED:20160920T162853
UID:3908-1575590400-1575676800@https://stjohnsclub.co.nz
SUMMARY:Texas Holdem Poker
DESCRIPTION:
URL:https://stjohnsclub.co.nz/event/texas-holdem-poker-3/2019-12-06/
END:VEVENT
BEGIN:VEVENT
DTSTART;VALUE=DATE:20191206
DTEND;VALUE=DATE:20191207
DTSTAMP:20191218T180540
CREATED:20170711T162040
LAST-MODIFIED:20170711T162040
UID:3909-1575590400-1575676800@https://stjohnsclub.co.nz
SUMMARY:Friday's Member's Draw!
DESCRIPTION:
URL:https://stjohnsclub.co.nz/event/fridays-members-draw/2019-12-06/
END:VEVENT
BEGIN:VEVENT
DTSTART;VALUE=DATE:20191205
DTEND;VALUE=DATE:20191206
DTSTAMP:20191218T180540
CREATED:20160920T162815
LAST-MODIFIED:20160920T162815
UID:3906-1575504000-1575590400@https://stjohnsclub.co.nz
SUMMARY:Darts 7pm
DESCRIPTION:
URL:https://stjohnsclub.co.nz/event/darts-7pm-3/2019-12-05/
END:VEVENT
BEGIN:VEVENT
DTSTART;VALUE=DATE:20191205
DTEND;VALUE=DATE:20191206
DTSTAMP:20191218T180540
CREATED:20170711T161947
LAST-MODIFIED:20170711T161947
UID:3907-1575504000-1575590400@https://stjohnsclub.co.nz
SUMMARY:Thursday's Member's Draw!
DESCRIPTION:
URL:https://stjohnsclub.co.nz/event/thursdays-members-draw/2019-12-05/
END:VEVENT
BEGIN:VEVENT
DTSTART;VALUE=DATE:20191204
DTEND;VALUE=DATE:20191205
DTSTAMP:20191218T180540
CREATED:20160920T162725
LAST-MODIFIED:20190413T000446
UID:3904-1575417600-1575504000@https://stjohnsclub.co.nz
SUMMARY:Dancing from 11:00am
DESCRIPTION:
URL:https://stjohnsclub.co.nz/event/dancing-1100am/2019-12-04/
END:VEVENT
BEGIN:VEVENT
DTSTART;VALUE=DATE:20191204
DTEND;VALUE=DATE:20191205
DTSTAMP:20191218T180540
CREATED:20170203T111617
LAST-MODIFIED:20170203T111617
UID:3905-1575417600-1575504000@https://stjohnsclub.co.nz
SUMMARY:Snooker 6:30pm
DESCRIPTION:
URL:https://stjohnsclub.co.nz/event/snooker-630pm-6/2019-12-04/
CATEGORIES:Adjuncts
END:VEVENT
BEGIN:VEVENT
DTSTART;VALUE=DATE:20191203
DTEND;VALUE=DATE:20191204
DTSTAMP:20191218T180540
CREATED:20160920T162545
LAST-MODIFIED:20160920T162545
UID:3903-1575331200-1575417600@https://stjohnsclub.co.nz
SUMMARY:Rummikub
DESCRIPTION:
URL:https://stjohnsclub.co.nz/event/rummikub-2/2019-12-03/
END:VEVENT
BEGIN:VEVENT
DTSTART;VALUE=DATE:20191202
DTEND;VALUE=DATE:20191203
DTSTAMP:20191218T180540
CREATED:20170203T111307
LAST-MODIFIED:20170203T111307
UID:3902-1575244800-1575331200@https://stjohnsclub.co.nz
SUMMARY:Indoor Bowls 7pm
DESCRIPTION:
URL:https://stjohnsclub.co.nz/event/indoor-bowls-7pm/2019-12-02/
CATEGORIES:Adjuncts
END:VEVENT
BEGIN:VEVENT
DTSTART;VALUE=DATE:20191201
DTEND;VALUE=DATE:20191202
DTSTAMP:20191218T180540
CREATED:20190926T165255
LAST-MODIFIED:20190926T165255
UID:4377-1575158400-1575244800@https://stjohnsclub.co.nz
SUMMARY:Live Entertainment: Jazz Band
DESCRIPTION:
URL:https://stjohnsclub.co.nz/event/live-entertainment-jazz-band/
END:VEVENT
END:VCALENDAR